BEGIN:VCALENDAR
VERSION:2.0
PRODID:-//Sociedad Venezolana de Mastología - ECPv6.15.17.1//NONSGML v1.0//EN
CALSCALE:GREGORIAN
METHOD:PUBLISH
X-WR-CALNAME:Sociedad Venezolana de Mastología
X-ORIGINAL-URL:https://svmastologia.org
X-WR-CALDESC:Eventos para Sociedad Venezolana de Mastología
REFRESH-INTERVAL;VALUE=DURATION:PT1H
X-Robots-Tag:noindex
X-PUBLISHED-TTL:PT1H
BEGIN:VTIMEZONE
TZID:America/Caracas
BEGIN:STANDARD
TZOFFSETFROM:-0400
TZOFFSETTO:-0400
TZNAME:-04
DTSTART:20210101T000000
END:STANDARD
END:VTIMEZONE
BEGIN:VEVENT
DTSTART;TZID=America/Caracas:20221208T170000
DTEND;TZID=America/Caracas:20221208T190000
DTSTAMP:20260422T041229
CREATED:20221206T065820Z
LAST-MODIFIED:20221206T072050Z
UID:1090-1670518800-1670526000@svmastologia.org
SUMMARY:Venezuela en la FLAM
DESCRIPTION:Venezuela en la FLAM.\nHomenaje a la Dra Elena Marín como Maestra de la Mastología en Latinoamérica.\nCon motivo de la presencia venezolana en el pasado Congreso de la FLAM y el nombramiento de la Dra Elena Marín como Maestra de la Mastología Latinoamericana\, realizaremos un evento con dos de las conferencias presentadas por venezolanos en dicho congreso y un homenaje a la Dra. Elena Marín. \n  \n\nTe puedes registrar haciendo clic aquí
URL:https://svmastologia.org/event/venezuela_flam/
CATEGORIES:Webinar
ATTACH;FMTTYPE=image/png:https://svmastologia.org/wp-content/uploads/2022/12/Webinar-FLAM.png
ORGANIZER;CN="Sociedad Venezolana de Mastolog%C3%ADa":MAILTO:eventos@svmastologia.org
END:VEVENT
END:VCALENDAR