BEGIN:VCALENDAR
VERSION:2.0
PRODID:-//Sociedad Venezolana de Mastología - ECPv6.15.17.1//NONSGML v1.0//EN
CALSCALE:GREGORIAN
METHOD:PUBLISH
X-ORIGINAL-URL:https://svmastologia.org
X-WR-CALDESC:Eventos para Sociedad Venezolana de Mastología
REFRESH-INTERVAL;VALUE=DURATION:PT1H
X-Robots-Tag:noindex
X-PUBLISHED-TTL:PT1H
BEGIN:VTIMEZONE
TZID:America/Caracas
BEGIN:STANDARD
TZOFFSETFROM:-0400
TZOFFSETTO:-0400
TZNAME:-04
DTSTART:20210101T000000
END:STANDARD
END:VTIMEZONE
BEGIN:VEVENT
DTSTART;TZID=America/Caracas:20220813T100000
DTEND;TZID=America/Caracas:20220813T120000
DTSTAMP:20260422T113624
CREATED:20220715T143310Z
LAST-MODIFIED:20220721T144251Z
UID:1001-1660384800-1660392000@svmastologia.org
SUMMARY:Seminario web «Después de un cáncer de mama: ¿Puedo quedar embarazada?»
DESCRIPTION:El seminario web de Agosto 2022 versará sobre el tema \n\n«Después de un cáncer de mama ¿puedo quedar embarazada?»\n\nestará dictado por los siguientes doctores: \n\n\nDra.Paula Cortiñas ( Fertilidad y Cáncer de mama: Preservación de fertilidad y embarazo).\n\n\n\n\nDr. José Carlos Rosales (Aspectos prácticos de técnicas de laboratorio para preservación de fertilidad en cáncer de mama).\n\n\nDra.Carmen Zulay Pastrán (¿Es posible el embarazo luego de tratamiento por cáncer de mama?).\n\n\nDra. Miriam Marcano (Emociones\, cáncer de mama y embarazo).\n\n\n\n\n\n\n\n\n\nEstará coordinado desde el punto de vista docente por la Dra. Adriana Pesci Feltri (JD) y técnico por el Dr. Humberto López-Fernández (JD). \n\nPaula Cortiñas\n\n\nGinecologo del Hospital Carlos J Bello\nMagister en Biología de la Reproducción Humana. IVIC\nGinecologo y endocrinólogo reproductivo. Clinica Santa Sofía\nProfesora de la cátedra de ginecología del Hospital Universitario de Caracas y del servicio de ginecología oncológica del Instituto de Oncologia Dr. Luis Razetti.\nCoordinadora del curso de perfeccionamiento profesional en endocrinología reproductiva del Hospital Universitario de Caracas. Universidad Central de Venezuela.\n\n\n\nDr. José Carlos Rosales :\n\nMédico Cirujano. Escuela José María  Vargas\, UCV.\nGinecólogo Obstetra. Maternidad Concepción Palacios\, UCV.\nBiólogo de la Reproducción Humana. Instituto Venezolano de Investigaciones Científicas\, IVIC.\nEmbriólogo Clínico.  Instituto Valenciano de Infertilidad España.\nFellow Citogenética Embrionaria. Universidad   Autónoma de Barcelona\, España.\nActualmente: Director del Laboratorio de Reproducción Humana de Fertilab. Clínica El Ávila\, Caracas.\n\n  \nDra. Carmen Zulay Pastrán: \n\nMédico Cirujano. UCV.\nMédico Internista UCV.\nOncologia medica. Institut Gustave Roussy\, Francia\nEjercicio profesional en Policlínica Metropolitana – Caracas.\n\n\n  \nDra. Myriam Marcano Torres \n\nMédico Internista\nEspecialista en Psiconeuroinmunología\, Neuropsicoeducación\, Programación Neurolingüística y Mindfulness\nDoctor en Ciencias Médicas\nMiembro Correspondiente Nacional de la Academia Nacional de Medicina\nProfesora de Pre y Postgrado de la Facultad de Ciencias de la Salud de la Universidad de Carabobo\nConferencista e Investigadora\n\n\n\n\n\n\n\n\n \nPara inscribirte haz clic AQUÍ\n\n\n  \nAl ser un curso gratuito NO se entregarán certificados de asistencia.\n  \n00días00horas00minutos00segundos
URL:https://svmastologia.org/event/embarazopostca/
CATEGORIES:Webinar
ATTACH;FMTTYPE=image/png:https://svmastologia.org/wp-content/uploads/2022/07/2022-08-Emb-post-Ca.png
ORGANIZER;CN="Sociedad Venezolana de Mastolog%C3%ADa":MAILTO:eventos@svmastologia.org
END:VEVENT
END:VCALENDAR