BEGIN:VCALENDAR
VERSION:2.0
PRODID:-//Sociedad Venezolana de Mastología - ECPv6.15.17.1//NONSGML v1.0//EN
CALSCALE:GREGORIAN
METHOD:PUBLISH
X-ORIGINAL-URL:https://svmastologia.org
X-WR-CALDESC:Eventos para Sociedad Venezolana de Mastología
REFRESH-INTERVAL;VALUE=DURATION:PT1H
X-Robots-Tag:noindex
X-PUBLISHED-TTL:PT1H
BEGIN:VTIMEZONE
TZID:America/Caracas
BEGIN:STANDARD
TZOFFSETFROM:-0400
TZOFFSETTO:-0400
TZNAME:-04
DTSTART:20210101T000000
END:STANDARD
END:VTIMEZONE
BEGIN:VEVENT
DTSTART;TZID=America/Caracas:20220528T100000
DTEND;TZID=America/Caracas:20220528T113000
DTSTAMP:20260422T180514
CREATED:20220516T114554Z
LAST-MODIFIED:20220522T094901Z
UID:981-1653732000-1653737400@svmastologia.org
SUMMARY:Seminario web «Perspectivas en genética y cáncer de mama»
DESCRIPTION:El seminario web de Mayo 2022 versará sobre el tema \n\n«Perspectivas en genética y cáncer de mama»\n\nestará dictado por la Dra Laura Fejerman (USA) y el Dr. Francisco Acevedo (Chile) con las conferencias: \n\n\n\nDra. Fejerman: Riesgo Genético de Cáncer de Mama y Disparidades en la Disponibilidad de Datos\, Consejería y Testeo en Mujeres de Origen Latinoamericano.\n\nDr. Acevedo: Asesoramiento Genético en Cáncer de Mama\n\n\n\n\nEstará coordinado desde el punto de vista docente por la Dra. Carmen Cristina García y técnico por el Dr. Humberto López-Fernández (bibliotecario de la JD). \nLa Dra. Fejerman es: \n\n\n\n\nProfesora Asociada del Departamento de Salud Pública\, Escuela de Medicina de la Universidad de California Davis.\nDirectora del programa WeCARE ( programa de investigación sobre el cuidado del cáncer de la mujer).\nCo-directora de la iniciativa LUCHA (Latinos Unidos para el avance de la salud contra el cáncer)\, dedicada a fomentar la prevención del cáncer en la población latinoamericana.\nSu investigación está orientada hacia el descubrimiento de factores genéticos y no genéticos que contribuyen al riesgo y pronóstico del cáncer de mama en mujeres latinoamericanas.\nLidera el Consorcio Latinoamericano de Genética y Genómica del Cáncer de Mama (LAGENO-BC)\, que pretende ampliar el estudio de la genética del cáncer de mama en mujeres latinas.\n\n\n\n\nEl Dr. Acevedo es: \n\nOncólogo médico dedicado a la patología mamaria.\nFellow de genética y cáncer de mama en el Massachusetts General Hospital.\nProfesor de la Facultad de Medicina de la Universidad Católica de Chile.\n\n  \n  \n\n\n\n\n\n\n\n \nPara inscribirte haz clic AQUÍ\n\n\n  \nAl ser un curso gratuito NO se entregarán certificados de asistencia.\n  \n00días00horas00minutos00segundos
URL:https://svmastologia.org/event/perpectivasgenetica2022/
CATEGORIES:Internacionales,Webinar
ATTACH;FMTTYPE=image/png:https://svmastologia.org/wp-content/uploads/2022/05/Plantilla-webinar-MAYO2022-SVM.png
ORGANIZER;CN="Sociedad Venezolana de Mastolog%C3%ADa":MAILTO:eventos@svmastologia.org
END:VEVENT
END:VCALENDAR