BEGIN:VCALENDAR
VERSION:2.0
PRODID:-//Sociedad Venezolana de Mastología - ECPv6.15.17.1//NONSGML v1.0//EN
CALSCALE:GREGORIAN
METHOD:PUBLISH
X-WR-CALNAME:Sociedad Venezolana de Mastología
X-ORIGINAL-URL:https://svmastologia.org
X-WR-CALDESC:Eventos para Sociedad Venezolana de Mastología
REFRESH-INTERVAL;VALUE=DURATION:PT1H
X-Robots-Tag:noindex
X-PUBLISHED-TTL:PT1H
BEGIN:VTIMEZONE
TZID:America/Caracas
BEGIN:STANDARD
TZOFFSETFROM:-0400
TZOFFSETTO:-0400
TZNAME:-04
DTSTART:20200101T000000
END:STANDARD
END:VTIMEZONE
BEGIN:VEVENT
DTSTART;TZID=America/Caracas:20211211T100000
DTEND;TZID=America/Caracas:20211211T120000
DTSTAMP:20260423T025132
CREATED:20211119T173106Z
LAST-MODIFIED:20211203T163928Z
UID:879-1639216800-1639224000@svmastologia.org
SUMMARY:Consenso SVM 2021 «Carcinoma In Situ»
DESCRIPTION:El evento de diciembre 2021 ( y último del año) corresponderá a todas las áreas de interés dentro de la Mastología y será: \n\nPresentación del Consenso 2021 SVM «Carcinoma Ductal In Situ de la Mama»\n\nDesde mediados de año\, la Junta Directiva de la Sociedad\, encabezada por nuestra presidente\, Dra. Jemcy Jahon\, convocó a un nutrido grupo de especialistas en las diferentes áreas que hacen vida dentro de la mama para actualizar este tópico; se realizaron discusiones por mesas de trabajo y posteriormente reuniones plenarias convocando a todos los asistentes y realizando las votaciones sobre los puntos más controversiales. \nLa presentación será dada por un integrante de cada mesa\, coordinada desde el punto de vista general por la Dra. Jemcy Jahon y la coordinación técnica por el Dr. Humberto López-Fernández. \n\n\nMesa Imagenología \nJemcy Jahon\nPatricia González\nCaren González\nMaría M. Patiño\n \nAna M. Rooks\nAdriana Pizarro\nOscar Martínez\nAlcira Capecchi\nLuz Meléndez\nJenny Sosa\n \nMilitza Villamizar\n \nMesa Cirugía \nÁlvaro Gómez\nJosepmily Peña\nHumberto López Fernández\nVíctor Acosta Marín\n \nAdriana Pesci Feltri\n \nFelipe Saldivia\nAntonio Petrilli\nVíctor Acosta Freites\nYazmin Velásquez\nRicardo Paredes\n \nCarlos Gadea\nJosé Prince\nCésar Pacheco\nMarco López\n  \n \nMesa Patología \nGino Bianchi\nEnrique López Loyo\nAna K. Ramírez\nMarianela Zavala\nElena Marín\n \nAldo Reigosa\nJuan C. Bequer\nMaría E. Viloria\nFrancisco Melanoscino\n   \n \nMesa Oncología Radioterápica \nSara Ott\nLaura Ruan\nElizabeth González\nDoris Barboza\nAnderson Cepeda\n \nMesa Oncología Médica \nElsa Di Leone\nAna C. Contreras\nZulay Pastrán\nCristina García\n \nMesa Genética Médica \nCarmen Cristina García\n \n  \n \nPara inscribirte haz clic AQUÍ\n\n\n  \nAl ser un curso gratuito NO se entregarán certificados de asistencia.\nEste evento se transmitirá únicamente por Zoom previo registro y aprobación\, solo para médicos. \nCupos limitados. \n  \n00días00horas00minutos00segundos
URL:https://svmastologia.org/event/consenso2021cdis/
CATEGORIES:Nacionales,Webinar
ATTACH;FMTTYPE=image/png:https://svmastologia.org/wp-content/uploads/2021/11/Arte-Consenso-In-Situ-SVM.png
END:VEVENT
END:VCALENDAR