BEGIN:VCALENDAR
VERSION:2.0
PRODID:-//Sociedad Venezolana de Mastología - ECPv6.15.17.1//NONSGML v1.0//EN
CALSCALE:GREGORIAN
METHOD:PUBLISH
X-ORIGINAL-URL:https://svmastologia.org
X-WR-CALDESC:Eventos para Sociedad Venezolana de Mastología
REFRESH-INTERVAL;VALUE=DURATION:PT1H
X-Robots-Tag:noindex
X-PUBLISHED-TTL:PT1H
BEGIN:VTIMEZONE
TZID:America/Caracas
BEGIN:STANDARD
TZOFFSETFROM:-0400
TZOFFSETTO:-0400
TZNAME:-04
DTSTART:20220101T000000
END:STANDARD
END:VTIMEZONE
BEGIN:VEVENT
DTSTART;TZID=America/Caracas:20230916T100000
DTEND;TZID=America/Caracas:20230916T120000
DTSTAMP:20260421T102005
CREATED:20230627T164815Z
LAST-MODIFIED:20230708T184742Z
UID:1410-1694858400-1694865600@svmastologia.org
SUMMARY:Seminario web «Desescalada en Cirugía Oncoplástica»
DESCRIPTION:El seminario web de Septiembre 2023 corresponderá al área de la cirugía\, especialmente en la Oncoplastia tratando el tema  «Desescalada en cirugía oncoplástica»; estará dictado por el Dr. Tibor Kovacs\, disertante será el Dr. Eduardo González\, la coordinación docente será realizada por el Dr. Víctor Acosta Marín (presidente de la SVM) y la técnica será responsabilidad del Dr. Humberto López-Fernández (vicepresidente SVM). \nEl Dr. Kovacs es Jefe de División de Cirugía Mamaria y Codirector del Programa de Salud Mamaria Cleveland Clinic Abu Dhabi\, Ex Presidente de la Sociedad Europea de Cirugía Oncológica (ESSO). \nEl Dr. González es Jefe de departamento de Mastología y profesor de Cirugía Oncológica del Instituto de Oncología “Ángel H. Roffo” de la Universidad de Buenos Aires – Argentina. \nAl ser un curso gratuito NO se entregarán certificados de asistencia. \nAl inscribirme estoy autorizando a la Sociedad Venezolana de Mastología a incluir mi nombre y correo en una base de datos para efectos de comunicaciones\, la cual no será vendida ni cedida a terceros. \nAl inscribir se debe dar un nombre y apellido real\, no se aceptarán inscripciones bajo pseudónimos. \n\nInscríbase haciendo clic aquí \nLuego de la inscripción\, recibirá un correo electrónico de confirmación con información para unirse al seminario web\, incluyendo el Zoom ID y la contraseña. \nEste evento será de libre acceso durante la transmisión en vivo; la versión bajo demanda (en diferido) solo estará disponible para los socios solventes de la Sociedad a través de la web de eventos de la Sociedad (congreso.svmastologia.com)\n  \n\n\n¿Cómo ingresar el día del evento?. \nMira este video de Youtube donde explicamos cómo ingresar en los eventos (HAZ CLIC AQUÍ)
URL:https://svmastologia.org/event/oncoplastia2023/
CATEGORIES:Internacionales,Webinar
ATTACH;FMTTYPE=image/png:https://svmastologia.org/wp-content/uploads/2023/06/webinar-2023-09-SVM.png
ORGANIZER;CN="Sociedad Venezolana de Mastolog%C3%ADa":MAILTO:eventos@svmastologia.org
END:VEVENT
END:VCALENDAR