BEGIN:VCALENDAR
VERSION:2.0
PRODID:-//Sociedad Venezolana de Mastología - ECPv6.15.17.1//NONSGML v1.0//EN
CALSCALE:GREGORIAN
METHOD:PUBLISH
X-WR-CALNAME:Sociedad Venezolana de Mastología
X-ORIGINAL-URL:https://svmastologia.org
X-WR-CALDESC:Eventos para Sociedad Venezolana de Mastología
REFRESH-INTERVAL;VALUE=DURATION:PT1H
X-Robots-Tag:noindex
X-PUBLISHED-TTL:PT1H
BEGIN:VTIMEZONE
TZID:America/Caracas
BEGIN:STANDARD
TZOFFSETFROM:-0400
TZOFFSETTO:-0400
TZNAME:-04
DTSTART:20210101T000000
END:STANDARD
END:VTIMEZONE
BEGIN:VEVENT
DTSTART;TZID=America/Caracas:20220917T100000
DTEND;TZID=America/Caracas:20220917T120000
DTSTAMP:20260422T080532
CREATED:20220818T171102Z
LAST-MODIFIED:20220910T110809Z
UID:1017-1663408800-1663416000@svmastologia.org
SUMMARY:Seminario web «Radioterapia en cáncer de mama; pacientes reconstruidas y post-mastectomía en estadios precoces»
DESCRIPTION:El seminario web de septiembre corresponderá nuevamente al área de la Radioterapia\, tratando los temas \n\n«Radioterapia en cáncer de mama: \n1) pacientes reconstruidas \n2) post mastectomía en estadios precoces.»\n\nEstará dictado por los Dres. Ángel Montero Luis y Jorge Carmona\, especialistas en Oncología Radioterápica\, desde España y República Dominicana respectivamente.\nCoordinado desde el punto de vista docente por el Dr. Anderson Cepeda y la técnica del Dr. Humberto López-Fernández (bibliotecario)\, bajo la coordinación general de la Dra. Jemcy Jahon. \n\n\n  \nEl Dr. Ángel Montero Luís es : \n\n\nLicenciado en Medicina y Cirugía\, Universidad Autónoma de Madrid\, 1988-1994 \n\n\nMédico Especialista en Oncología Radioterápica\, Clínica Puerta de Hierro(Madrid)\,1996-2000 \n\n\n\n\nDoctor en Medicina y Cirugía\, Universidad Autónoma de Madrid\, Radioquimioterapia en cáncer de cabeza y cuello localmente avanzado: resultados de un fase II con cisplatino\, tegafur y radioterapia”\, con calificación de Sobresaliente CumLaude\,Septiembre-2004 \n\n\nSITUACIÓN LABORAL ACTUAL: \n\n\nMédico especialista en Oncología Radioterápica en Centro Integral Oncológico ClaraCampal(CIOCC)\, Hospital Universitario HM Sanchinarro\, Madrid (www.radioterapiahm.com) \n\n\nACTIVIDAD DOCENTE: \n\n\nProfesor en el Máster Internacional en Oncología Clínica\, Universidad Francisco de Vitoria (Madrid\, España) \n\n\nProfesor en el Máster Internacional de Mastología- Senología\, Universidad Internacional Menéndez Pelayo (UIMP) y la Fundación de Estudios Mastológicos (FEMA) Profesor en el Máster Internacional en Aplicaciones Tecnológicas Avanzadas en Oncología Radioterápica\, Universidad de Murcia (Murcia\, España). \n\n\nProfesor en Grado de Formación de Técnico Superior en Radioterapia y Dosimetría\, Centro de Profesiones Biosanitarias HM Hospitales. \n\n\nPATENTES Y APLICACIONES REGISTRADAS: \n\n\n\n\nCo-inventor del dispositivo IRMAPRON®\, inmovilizador para la realización de radioterapia dela mama en decúbito prono \n\n\nCo-director de la aplicación móvil iOncoR para dispositivos telefónicos y tabletas\, disponible en AppleStore y GooglePlay \n\n\n\n\n  \nEl Dr. Jorge Carmona es : \n\nMédico cirujano egresado de la Universidad Central de Venezuela.\nPostgrado en Radioterapia y Medicina Nuclear.\nMagister en Tecnologías Avanzadas en Radioterapia\, Universidad de Murcia\, España.\nMagister en Radiocirugía del Sistema Nervioso Central\, Universidad Complutense de Madrid.\n\nSITUACIÓN LABORAL ACTUAL: \n\n\nMédico Radioterapeuta Oncólogo Especialista en ONCOSERV Centro Oncológico del Norte\, Santiago\, República Dominicana. \n\n\n  \n  \nCoordinador Académico:El Dr. Anderson Cepeda (coordinador académico) es:\n\nMédico cirujano egresado de la Universidad Central de Venezuela\nEspecialista en Radioterapia y Medicina Nuclear.\nDiplomado en Mastología  (Sociedad Venezolana de Mastología).\nMiembro asociado de la Sociedad Venezolana de Oncología.\nMiembro asociado de la Sociedad Venezolana de Mastología.\nOncólogo Radioterapeuta con ejercicio actual en el Centro Diagnóstico Docente las Mercedes\,  Oncorad CDD\, Centro Clínico de Estereotaxia (CECLINES) y A.C Senosayuda.\n\n  \n \nPara inscribirte haz clic AQUÍ\n\n\n  \nAl ser un curso gratuito NO se entregarán certificados de asistencia.\n  \n00días00horas00minutos00segundos
URL:https://svmastologia.org/event/radioterapia2022/
CATEGORIES:Internacionales,Webinar
ATTACH;FMTTYPE=image/png:https://svmastologia.org/wp-content/uploads/2022/08/Webinar-2022-09.png
ORGANIZER;CN="Sociedad Venezolana de Mastolog%C3%ADa":MAILTO:eventos@svmastologia.org
END:VEVENT
END:VCALENDAR