BEGIN:VCALENDAR
VERSION:2.0
PRODID:-//Sociedad Venezolana de Mastología - ECPv6.15.17.1//NONSGML v1.0//EN
CALSCALE:GREGORIAN
METHOD:PUBLISH
X-ORIGINAL-URL:https://svmastologia.org
X-WR-CALDESC:Eventos para Sociedad Venezolana de Mastología
REFRESH-INTERVAL;VALUE=DURATION:PT1H
X-Robots-Tag:noindex
X-PUBLISHED-TTL:PT1H
BEGIN:VTIMEZONE
TZID:America/Caracas
BEGIN:STANDARD
TZOFFSETFROM:-0400
TZOFFSETTO:-0400
TZNAME:-04
DTSTART:20200101T000000
END:STANDARD
END:VTIMEZONE
BEGIN:VEVENT
DTSTART;TZID=America/Caracas:20210828T100000
DTEND;TZID=America/Caracas:20210828T120000
DTSTAMP:20260425T084908
CREATED:20210728T164859Z
LAST-MODIFIED:20210817T164421Z
UID:783-1630144800-1630152000@svmastologia.org
SUMMARY:Seminario web «Intervencionismo en mastología ¿qué debemos conocer y practicar?»
DESCRIPTION:El seminario web de agosto corresponderá al área del Intervencionismo Mamario\, tratando el tema \n\n«Intervencionismo en mastología ¿qué debemos conocer y practicar?»\n\nestará dictado por los Dres. José Parada (Uruguay)\, Daniel Lehrer (Argentina) y Javier Romero (Colombia)\, coordinado desde el punto de vista docente por la Dra. Jemcy Jahon (imagenólogo y presidente de nuestra Sociedad) y la coordinación técnica por el Dr. Humberto López-Fernández (bibliotecario). \nLos temas a discutir serán:\n\nIntervencionismo bajo guía ecográfica de lesiones mamarias y de la axila\, ¿quien debe decidirlo y practicarlo? Tipos de procedimientos (Dr. Parada)\nIntervencionismo bajo guía estereotáxica 2D/3D\, empleo de mesa prona Vs BTX con equipo vertical\, ¿quién debe decidirlo y practicarlo? (Dr. Lehrer)\nControl de calidad en procedimientos intervencionistas (Dr. Romero)\n\n\n\n\n  \nEl Dr. José Parada (Uruguay): \nMédico imagenólogo subespecializado en patología mamaria \nUniversidad de Montevideo (Uruguay) \nExpresidente de la Sociedad Uruguaya de Mastología \nExdirector de la Escuela Uruguaya de Mastología \nDirector de CIP (Clínica de imágenes Dres. Parada) \n\nEl Dr. Daniel Lehrer (Argentina):\n\nMédico especialista en Diagnóstico por Imágenes. Acreditado en Imágenes mamarias\nDirector Médico de Cerim\nMiembro del comité asesor de DenseBreast-info.\nPrincipal Investigador en Cerim de TMIST\n\nEl Dr. Javier Romero: \nRadiólogo \nJefe Departamento de Radiología Fundación Santa Fe de Bogotá \nÁreas de desempeño: Imágenes de la Mujer\, Abdomen\, Imágenes Oncológicas\, Epidemiología Clínica. \n  \n  \n \nPara inscribirte haz clic AQUÍ\n\n\n  \nAl ser un curso gratuito NO se entregarán certificados de asistencia.\n  \n00días00horas00minutos00segundos
URL:https://svmastologia.org/event/intervencionismo2021/
CATEGORIES:Internacionales,Webinar
ATTACH;FMTTYPE=image/png:https://svmastologia.org/wp-content/uploads/2021/07/2021-08-Webinar-Intervencionismo-Mamario.png
ORGANIZER;CN="Sociedad Venezolana de Mastolog%C3%ADa":MAILTO:eventos@svmastologia.org
END:VEVENT
END:VCALENDAR