BEGIN:VCALENDAR
VERSION:2.0
PRODID:-//Sociedad Venezolana de Mastología - ECPv6.15.17.1//NONSGML v1.0//EN
CALSCALE:GREGORIAN
METHOD:PUBLISH
X-ORIGINAL-URL:https://svmastologia.org
X-WR-CALDESC:Eventos para Sociedad Venezolana de Mastología
REFRESH-INTERVAL;VALUE=DURATION:PT1H
X-Robots-Tag:noindex
X-PUBLISHED-TTL:PT1H
BEGIN:VTIMEZONE
TZID:America/Caracas
BEGIN:STANDARD
TZOFFSETFROM:-0400
TZOFFSETTO:-0400
TZNAME:-04
DTSTART:20200101T000000
END:STANDARD
END:VTIMEZONE
BEGIN:VEVENT
DTSTART;TZID=America/Caracas:20210724T100000
DTEND;TZID=America/Caracas:20210724T120000
DTSTAMP:20260425T103512
CREATED:20210628T142703Z
LAST-MODIFIED:20210707T180226Z
UID:746-1627120800-1627128000@svmastologia.org
SUMMARY:Seminario web «Rol del patólogo en el sistema de estadificación\, conceptos actuales»
DESCRIPTION:El seminario web de julio corresponderá al área de Anatomía Patológica\, trataremos el tema Rol del patólogo en el sistema de estadificación\, conceptos actuales y estará presentado por la Dra. Gabriela Sofía Gómez Macías y coordinado desde el punto de vista docente por el Dr. Enrique López-Loyo\, patólogo y vicepresidente de nuestra sociedad y la coordinación técnica por el Dr. Humberto López-Fernández (bibliotecario). \nLa Dra. Gómez Macías es \n\n\n\n• Especialista en Anatomía Patológica en el Hospital Universitario “José Eleuterio González” de la Universidad Autónoma de Nuevo León (UANL).\n• Observership en la sección de patología del National Cancer Institute NCI/NIH\, Bethesda Maryland.\n• Fellowship en el National Institute of Health/ National Cancer Institute\, NIH/NCI\, Bethesda Maryland\, USA.\n• Observership en el laboratorio de patología del MD Anderson Cancer Center\, Universidad de Texas\, Houston\, Tx\, USA.\n• Doctorado en Medicina en la Universidad Autonoma de Nuevo León (UANL).\n\n\n\n\n\n\n\n• Medico Patólogo del Centro de Cáncer de Mama del Hospital San José y Hospital Zambrano-Hellion del Instituto Tecnologico y de Estudios Superiores de Monterrey (ITESM).\n\n\n\n\nAl ser un curso gratuito NO se entregarán certificados de asistencia. \n  \n \nPara inscribirte haz clic AQUÍ\n\n\n00días00horas00minutos00segundos\n\n 
URL:https://svmastologia.org/event/ap2021/
CATEGORIES:Internacionales,Webinar
ATTACH;FMTTYPE=image/png:https://svmastologia.org/wp-content/uploads/2021/07/2021-07-Webinar-est-Patologia.png
ORGANIZER;CN="Sociedad Venezolana de Mastolog%C3%ADa":MAILTO:eventos@svmastologia.org
END:VEVENT
END:VCALENDAR