BEGIN:VCALENDAR
VERSION:2.0
PRODID:-//Sociedad Venezolana de Mastología - ECPv6.15.17.1//NONSGML v1.0//EN
CALSCALE:GREGORIAN
METHOD:PUBLISH
X-WR-CALNAME:Sociedad Venezolana de Mastología
X-ORIGINAL-URL:https://svmastologia.org
X-WR-CALDESC:Eventos para Sociedad Venezolana de Mastología
REFRESH-INTERVAL;VALUE=DURATION:PT1H
X-Robots-Tag:noindex
X-PUBLISHED-TTL:PT1H
BEGIN:VTIMEZONE
TZID:America/Caracas
BEGIN:STANDARD
TZOFFSETFROM:-0400
TZOFFSETTO:-0400
TZNAME:-04
DTSTART:20200101T000000
END:STANDARD
END:VTIMEZONE
BEGIN:VEVENT
DTSTART;TZID=America/Caracas:20210624T170000
DTEND;TZID=America/Caracas:20210624T190000
DTSTAMP:20260425T122524
CREATED:20210513T165911Z
LAST-MODIFIED:20210525T081459Z
UID:735-1624554000-1624561200@svmastologia.org
SUMMARY:Simposio: "Cáncer de Mama Triple Negativo"
DESCRIPTION:Este simposium estará conformado por charlas de 20 minutos y 30 minutos para la mesa redonda. \nCoordinación Académica: Dra. Elsa Di Leone\nCoordinación Técnica: Dr. Humberto López Fernández \nConferencias:\n1. ¿La imagen radiológica tiene alguna función predictiva en los subtipos de la enfermedad TN?\nDra. Karina Pesce – Especialista en Imágenes mamarias. Buenos Aires – Argentina \n2. ¿Qué marcadores son necesarios para el tratamiento de Cáncer de Mama Triple Negativo?\nDra. Elena Marín – Anatomía Patológica. Caracas – Venezuela. \n3. ¿Todos los tumores TN tienen indicación de neoadyuvancia?\nDr. Ricardo Paredes – Cirujano Oncólogo Mastólogo. Caracas – Venezuela. \n4. Esquema reciente de inmunoterapia en la enfermedad avanzada TN\nDr. Javier Cortés – Oncólogo Médico. Barcelona – España \n5. Mesa Redonda. \nDra. Ana Cecilia Contreras Castillo – Oncólogo Médico. Valencia – Venezuela. \n  \nPara inscribirse\, por favor haga clic aquí
URL:https://svmastologia.org/event/simposiotn/
CATEGORIES:Internacionales,Webinar
ATTACH;FMTTYPE=image/png:https://svmastologia.org/wp-content/uploads/2021/05/Simposio-Triple-Negativo.png
ORGANIZER;CN="Sociedad Venezolana de Mastolog%C3%ADa":MAILTO:eventos@svmastologia.org
END:VEVENT
END:VCALENDAR